BEGIN:VCALENDAR
VERSION:2.0
PRODID:-//Web oficial de DavidDj - ECPv6.11.2//NONSGML v1.0//EN
CALSCALE:GREGORIAN
METHOD:PUBLISH
X-ORIGINAL-URL:https://daviddj.es
X-WR-CALDESC:Eventos para Web oficial de DavidDj
REFRESH-INTERVAL;VALUE=DURATION:PT1H
X-Robots-Tag:noindex
X-PUBLISHED-TTL:PT1H
BEGIN:VTIMEZONE
TZID:UTC
BEGIN:STANDARD
TZOFFSETFROM:+0000
TZOFFSETTO:+0000
TZNAME:UTC
DTSTART:20250101T000000
END:STANDARD
END:VTIMEZONE
BEGIN:VEVENT
DTSTART;TZID=UTC:20250411T190000
DTEND;TZID=UTC:20250411T235900
DTSTAMP:20260423T091710
CREATED:20250325T184513Z
LAST-MODIFIED:20250325T184515Z
UID:264-1744398000-1744415940@daviddj.es
SUMMARY:Angus Playamar
DESCRIPTION:
URL:https://daviddj.es/fecha/angus-playamar-6/
LOCATION:Playamar\, P.º de Maritimo Torremolinos\, 69\, 29620 Torremolinos\, Málaga\, Playamar\, P.º de Maritimo Torremolinos\, 69\, Torremolinos\, Spain\, 29620\, Spain
ATTACH;FMTTYPE=image/jpeg:https://daviddj.es/wp-content/uploads/2025/03/angus-playamar.jpg
END:VEVENT
BEGIN:VEVENT
DTSTART;TZID=UTC:20250408T190000
DTEND;TZID=UTC:20250408T235900
DTSTAMP:20260423T091710
CREATED:20250325T184357Z
LAST-MODIFIED:20250325T184359Z
UID:262-1744138800-1744156740@daviddj.es
SUMMARY:Angus Playamar
DESCRIPTION:
URL:https://daviddj.es/fecha/angus-playamar-5/
LOCATION:Playamar\, P.º de Maritimo Torremolinos\, 69\, 29620 Torremolinos\, Málaga\, Playamar\, P.º de Maritimo Torremolinos\, 69\, Torremolinos\, Spain\, 29620\, Spain
ATTACH;FMTTYPE=image/jpeg:https://daviddj.es/wp-content/uploads/2025/03/angus-playamar.jpg
END:VEVENT
BEGIN:VEVENT
DTSTART;TZID=UTC:20250407T190000
DTEND;TZID=UTC:20250407T235900
DTSTAMP:20260423T091710
CREATED:20250325T184238Z
LAST-MODIFIED:20250325T184240Z
UID:260-1744052400-1744070340@daviddj.es
SUMMARY:Angus Marbella
DESCRIPTION:
URL:https://daviddj.es/fecha/angus-marbella-4/
LOCATION:Av. Duque de Ahumada\, 9\, 29602 Marbella\, Málaga\, Av. Duque de Ahumada\, 9\, Málaga\, Spain\, 29602\, Spain
ATTACH;FMTTYPE=image/jpeg:https://daviddj.es/wp-content/uploads/2025/03/angus-marbella.jpg
END:VEVENT
BEGIN:VEVENT
DTSTART;TZID=UTC:20250406T190000
DTEND;TZID=UTC:20250406T235900
DTSTAMP:20260423T091710
CREATED:20250325T184025Z
LAST-MODIFIED:20250325T184026Z
UID:258-1743966000-1743983940@daviddj.es
SUMMARY:Angus Marbella
DESCRIPTION:
URL:https://daviddj.es/fecha/angus-marbella-3/
LOCATION:Av. Duque de Ahumada\, 9\, 29602 Marbella\, Málaga\, Av. Duque de Ahumada\, 9\, Málaga\, Spain\, 29602\, Spain
ATTACH;FMTTYPE=image/jpeg:https://daviddj.es/wp-content/uploads/2025/03/angus-marbella.jpg
END:VEVENT
BEGIN:VEVENT
DTSTART;TZID=UTC:20250405T190000
DTEND;TZID=UTC:20250405T235900
DTSTAMP:20260423T091710
CREATED:20250325T183836Z
LAST-MODIFIED:20250325T183838Z
UID:256-1743879600-1743897540@daviddj.es
SUMMARY:Angus Playamar
DESCRIPTION:
URL:https://daviddj.es/fecha/angus-playamar-4/
LOCATION:Playamar\, P.º de Maritimo Torremolinos\, 69\, 29620 Torremolinos\, Málaga\, Playamar\, P.º de Maritimo Torremolinos\, 69\, Torremolinos\, Spain\, 29620\, Spain
ATTACH;FMTTYPE=image/jpeg:https://daviddj.es/wp-content/uploads/2025/03/angus-playamar.jpg
END:VEVENT
BEGIN:VEVENT
DTSTART;TZID=UTC:20250404T190000
DTEND;TZID=UTC:20250404T235900
DTSTAMP:20260423T091710
CREATED:20250325T183630Z
LAST-MODIFIED:20250325T183631Z
UID:254-1743793200-1743811140@daviddj.es
SUMMARY:Angus Playamar
DESCRIPTION:
URL:https://daviddj.es/fecha/angus-playamar-3/
LOCATION:Playamar\, P.º de Maritimo Torremolinos\, 69\, 29620 Torremolinos\, Málaga\, Playamar\, P.º de Maritimo Torremolinos\, 69\, Torremolinos\, Spain\, 29620\, Spain
ATTACH;FMTTYPE=image/jpeg:https://daviddj.es/wp-content/uploads/2025/03/angus-playamar.jpg
END:VEVENT
BEGIN:VEVENT
DTSTART;TZID=UTC:20250401T190000
DTEND;TZID=UTC:20250401T235900
DTSTAMP:20260423T091710
CREATED:20250325T182117Z
LAST-MODIFIED:20250325T183027Z
UID:242-1743534000-1743551940@daviddj.es
SUMMARY:Angus Playamar
DESCRIPTION:
URL:https://daviddj.es/fecha/242/
LOCATION:Playamar\, P.º de Maritimo Torremolinos\, 69\, 29620 Torremolinos\, Málaga\, Playamar\, P.º de Maritimo Torremolinos\, 69\, Torremolinos\, Spain\, 29620\, Spain
ATTACH;FMTTYPE=image/jpeg:https://daviddj.es/wp-content/uploads/2025/03/angus-playamar.jpg
END:VEVENT
BEGIN:VEVENT
DTSTART;TZID=UTC:20250331T190000
DTEND;TZID=UTC:20250331T235900
DTSTAMP:20260423T091710
CREATED:20250325T183355Z
LAST-MODIFIED:20250325T183357Z
UID:252-1743447600-1743465540@daviddj.es
SUMMARY:Angus Marbella
DESCRIPTION:
URL:https://daviddj.es/fecha/angus-marbella-2/
LOCATION:Av. Duque de Ahumada\, 9\, 29602 Marbella\, Málaga\, Av. Duque de Ahumada\, 9\, Málaga\, Spain\, 29602\, Spain
ATTACH;FMTTYPE=image/jpeg:https://daviddj.es/wp-content/uploads/2025/03/angus-marbella.jpg
END:VEVENT
BEGIN:VEVENT
DTSTART;TZID=UTC:20250330T190000
DTEND;TZID=UTC:20250330T235900
DTSTAMP:20260423T091710
CREATED:20250325T182724Z
LAST-MODIFIED:20250325T182730Z
UID:246-1743361200-1743379140@daviddj.es
SUMMARY:Angus Marbella
DESCRIPTION:
URL:https://daviddj.es/fecha/angus-marbella/
LOCATION:Av. Duque de Ahumada\, 9\, 29602 Marbella\, Málaga\, Av. Duque de Ahumada\, 9\, Málaga\, Spain\, 29602\, Spain
ATTACH;FMTTYPE=image/jpeg:https://daviddj.es/wp-content/uploads/2025/03/angus-marbella.jpg
END:VEVENT
BEGIN:VEVENT
DTSTART;TZID=UTC:20250329T190000
DTEND;TZID=UTC:20250329T235900
DTSTAMP:20260423T091710
CREATED:20250325T181339Z
LAST-MODIFIED:20250325T181631Z
UID:238-1743274800-1743292740@daviddj.es
SUMMARY:Angus Playamar
DESCRIPTION:
URL:https://daviddj.es/fecha/angus-playamar-2/
LOCATION:Playamar\, P.º de Maritimo Torremolinos\, 69\, 29620 Torremolinos\, Málaga\, Playamar\, P.º de Maritimo Torremolinos\, 69\, Torremolinos\, Spain\, 29620\, Spain
ATTACH;FMTTYPE=image/jpeg:https://daviddj.es/wp-content/uploads/2025/03/angus-playamar.jpg
END:VEVENT
BEGIN:VEVENT
DTSTART;TZID=UTC:20250328T190000
DTEND;TZID=UTC:20250328T235900
DTSTAMP:20260423T091710
CREATED:20250325T180756Z
LAST-MODIFIED:20250325T181826Z
UID:234-1743188400-1743206340@daviddj.es
SUMMARY:Angus Playamar
DESCRIPTION:
URL:https://daviddj.es/fecha/angus-playamar/
LOCATION:Playamar\, P.º de Maritimo Torremolinos\, 69\, 29620 Torremolinos\, Málaga\, Playamar\, P.º de Maritimo Torremolinos\, 69\, Torremolinos\, Spain\, 29620\, Spain
ATTACH;FMTTYPE=image/jpeg:https://daviddj.es/wp-content/uploads/2025/03/angus-playamar.jpg
END:VEVENT
BEGIN:VEVENT
DTSTART;TZID=UTC:20250325T190000
DTEND;TZID=UTC:20250325T235900
DTSTAMP:20260423T091710
CREATED:20250325T182315Z
LAST-MODIFIED:20250325T183139Z
UID:244-1742929200-1742947140@daviddj.es
SUMMARY:Angus Playamar
DESCRIPTION:
URL:https://daviddj.es/fecha/244/
LOCATION:Playamar\, P.º de Maritimo Torremolinos\, 69\, 29620 Torremolinos\, Málaga\, Playamar\, P.º de Maritimo Torremolinos\, 69\, Torremolinos\, Spain\, 29620\, Spain
ATTACH;FMTTYPE=image/jpeg:https://daviddj.es/wp-content/uploads/2025/03/angus-playamar.jpg
END:VEVENT
END:VCALENDAR